BEGIN:VCALENDAR
VERSION:2.0
PRODID:-//Volt Europa//Events//EN
CALSCALE:GREGORIAN
METHOD:PUBLISH
BEGIN:VEVENT
UID:zij-aan-zet-1748779200@voltnederland.org
DTSTAMP:20260423T142816Z
DTSTART;TZID=Europe/Amsterdam:20250601T140000
DTEND;TZID=Europe/Amsterdam:20250601T160000
SUMMARY:Zij aan zet
DESCRIPTION:Ontmoet Maastrichtse raadsvrouwen! Partijoverstijgend evenement
  voor politiek geïnteresseerde vrouwen. Neem gerust vrienden mee. https://
 www.instagram.com/p/DKKkqp4MaWh/?igsh=aHoxdTh2cnRzZTdh
LOCATION:Espresso Quartier\, Maastricht
URL:https://voltnederland.org/limburg/agenda/zij-aan-zet
END:VEVENT
END:VCALENDAR
