BEGIN:VCALENDAR
VERSION:2.0
PRODID:-//Volt Europa//Events//EN
CALSCALE:GREGORIAN
METHOD:PUBLISH
BEGIN:VEVENT
UID:welkomstsessie-nieuwe-leden-1760547600@voltnederland.org
DTSTAMP:20260423T114339Z
DTSTART;TZID=Europe/Amsterdam:20251015T190000
DTEND;TZID=Europe/Amsterdam:20251015T203000
SUMMARY:Welkomstsessie Nieuwe Leden
DESCRIPTION:Op  dinsdag 15 oktober om 19:00  organiseren wij een  online we
 lkomstsessie  voor nieuwe leden. Tijdens deze avond maak je kennis met onze
  pan-Europese beweging\, ontdek je hoe je lokaal én Europees betrokken kun
 t raken en is er ruimte om vragen te stellen. Een laagdrempelige en inspire
 rende start 💜 On Tuesday\, October 15th at 7:00 PM\, we're hosting an on
 line welcome session for new members. During this evening\, you'll get to k
 now our pan-European movement\, discover how you can get involved local
LOCATION:Online
URL:https://voltnederland.org/limburg/agenda/welkomstsessie-nieuwe-leden
END:VEVENT
END:VCALENDAR
