BEGIN:VCALENDAR
VERSION:2.0
PRODID:-//Volt Europa//Events//EN
CALSCALE:GREGORIAN
METHOD:PUBLISH
BEGIN:VEVENT
UID:waarom-deze-verkiezingen-over-europa-gaan-de-vs-europa-en-china-1761235
 200@voltnederland.org
DTSTAMP:20260423T114629Z
DTSTART;TZID=Europe/Amsterdam:20251023T180000
DTEND;TZID=Europe/Amsterdam:20251023T200000
SUMMARY:Waarom deze verkiezingen over Europa gaan: de VS\, Europa en China
DESCRIPTION:Graag nodigen we je van harte uit om op donderdag 23 oktober ee
 n drankje te komen drinken bij het Holland House in Brussel (rue d’arlon 
 20) of om online mee te doen. We gaan in gesprek met Volt TK-kandidaat Emre
  Gungor (nr. 9)\, schrijver van het boek EU > VS en Volt TK-kandidaat Sjoer
 d Wennekes (nr. 31) en China-deskundige Sanne van der Lugt. We gaan praten 
 over het thema: “Waarom deze verkiezingen over Europa gaan: de VS\, Europ
 a en China.” Je bent welkom vanaf 18.00 uur\; het panelgesprek start 
LOCATION:Online en in Brussel (Holland House Brussels\, Rue d'Arlon 20\, 10
 50 Bruxelles\, Belgium)
URL:https://voltnederland.org/agenda/waarom-deze-verkiezingen-over-europa-g
 aan-de-vs-europa-en-china
END:VEVENT
END:VCALENDAR
