BEGIN:VCALENDAR
VERSION:2.0
PRODID:-//Volt Europa//Events//EN
CALSCALE:GREGORIAN
METHOD:PUBLISH
BEGIN:VEVENT
UID:vrijdagavondborrel-1708713000@voltnederland.org
DTSTAMP:20260423T144304Z
DTSTART;TZID=Europe/Amsterdam:20240223T193000
DTEND;TZID=Europe/Amsterdam:20240223T220000
SUMMARY:Vrijdagavondborrel
DESCRIPTION:Het is weer tijd voor een borrel! Kom ook naar Café de Dwaesj 
 in Sittard op vrijdag 23 februari en ontmoet (andere) volters 💜 Niet-led
 en zijn ook van harte welkom!
LOCATION:Café de Dwaesj - Sittard
URL:https://voltnederland.org/limburg/agenda/vrijdagavondborrel
END:VEVENT
END:VCALENDAR
