BEGIN:VCALENDAR
VERSION:2.0
PRODID:-//Volt Europa//Events//EN
CALSCALE:GREGORIAN
METHOD:PUBLISH
BEGIN:VEVENT
UID:volt-mars-door-drie-landen-voor-open-grenzen-1730550600@voltnederland.o
 rg
DTSTAMP:20260423T114253Z
DTSTART;TZID=Europe/Amsterdam:20241102T133000
DTEND;TZID=Europe/Amsterdam:20241102T150000
SUMMARY:Volt mars door drie landen voor open grenzen!
DESCRIPTION:Open Grenzen  Nu Duitsland tijdelijk de grenscontroles heeft he
 ringevoerd\, vindt Volt het belangrijk om zichtbaar te pleiten voor open gr
 enzen binnen Europa. Volt organiseert daarom een Europese mars. Volt-leden 
 uit België\, Frankrijk\, Duitsland\, Luxemburg en Nederland (vijf Europese
  landen) lopen van Frankrijk naar Duitsland en vervolgens naar Luxemburg om
  hun steun voor open grenzen te tonen.  Wat:  2\,5 km lange mars door drie 
 Europese landen\, als zichtbaar pleidooi voor open Europese grenzen W
LOCATION:Apach\, Frankrijk
URL:https://voltnederland.org/brabant/agenda/volt-mars-door-drie-landen-voo
 r-open-grenzen
END:VEVENT
END:VCALENDAR
