BEGIN:VCALENDAR
VERSION:2.0
PRODID:-//Volt Europa//Events//EN
CALSCALE:GREGORIAN
METHOD:PUBLISH
BEGIN:VEVENT
UID:verkiezingsavond-ep-2024-1717698600@voltnederland.org
DTSTAMP:20260423T131748Z
DTSTART;TZID=Europe/Amsterdam:20240606T203000
DTEND;TZID=Europe/Amsterdam:20240606T230000
SUMMARY:Verkiezingsavond
DESCRIPTION:Beleef het moment van de waarheid met andere Limburgse Volters 
 in Café Forum in Maastricht 💜
LOCATION:Café Forum\, Maastricht
URL:https://voltnederland.org/limburg/agenda/verkiezingsavond-ep-2024
END:VEVENT
END:VCALENDAR
