BEGIN:VCALENDAR
VERSION:2.0
PRODID:-//Volt Europa//Events//EN
CALSCALE:GREGORIAN
METHOD:PUBLISH
BEGIN:VEVENT
UID:themacafe-natuur-als-rechtspersoon-1768415400@voltnederland.org
DTSTAMP:20260423T174229Z
DTSTART;TZID=Europe/Amsterdam:20260114T193000
DTEND;TZID=Europe/Amsterdam:20260114T213000
SUMMARY:Themacafé "Natuur als Rechtspersoon?"
DESCRIPTION:Veel gemeenten in Gelderland liggen nabij prachtige natuurgebie
 den. Wereldwijd is er een trend gaande om natuurgebieden als rechtspersoon 
 te erkennen. Volt Rheden wil onderzoeken of de erkenning van natuur als re
 chtspersoon in Nederland mogelijk is. De gemeente Eijsden-Margraten heeft a
 ls eerste gemeente het verzoek van hun gemeenteraad hierover al gekregen. 
  Twee Nederlandse onderzoekers van de Nyenrode Universiteit\, te weten pro
 fessor Tineke Lambooy en Carolijn Ulmer\, promovendus zetten de sta
LOCATION:Sem Cafe Velp (GLD) Ingang zaal Noorderparallelweg 25\, 6881 RX Ve
 lp
URL:https://voltnederland.org/agenda/themacafe-natuur-als-rechtspersoon
END:VEVENT
END:VCALENDAR
