BEGIN:VCALENDAR
VERSION:2.0
PRODID:-//Volt Europa//Events//EN
CALSCALE:GREGORIAN
METHOD:PUBLISH
BEGIN:VEVENT
UID:straatactie-venlo-251004-1759572000@voltnederland.org
DTSTAMP:20260423T161211Z
DTSTART;TZID=Europe/Amsterdam:20251004T120000
DTEND;TZID=Europe/Amsterdam:20251004T150000
SUMMARY:Straatactie Venlo
DESCRIPTION:Op deze dag willen we zo veel mogelijk mensen bij elkaar krijge
 n in Venlo\, dus trek je paarste outfit aan en doe mee! We verzamelen om 12
  uur op het station en trekken van daaruit de stad in. Gebruik het formulie
 r om je aan te melden voor deze en andere straatacties 🙏🏻💜 On this
  day\, we want to gather as many people as possible in Venlo\, so put on yo
 ur purplest outfit and join in! We meet at the station at 12 noon and head 
 into the city from there. Use the form to sign up for this and other stree
LOCATION:Venlo
URL:https://voltnederland.org/limburg/agenda/straatactie-venlo-251004
END:VEVENT
END:VCALENDAR
