BEGIN:VCALENDAR
VERSION:2.0
PRODID:-//Volt Europa//Events//EN
CALSCALE:GREGORIAN
METHOD:PUBLISH
BEGIN:VEVENT
UID:straatactie-roermond-251005-1759658400@voltnederland.org
DTSTAMP:20260423T114226Z
DTSTART;TZID=Europe/Amsterdam:20251005T120000
DTEND;TZID=Europe/Amsterdam:20251005T150000
SUMMARY:Straatactie Roermond
DESCRIPTION:Op deze dag willen we zo veel mogelijk mensen bij elkaar krijge
 n in Roermond\, dus trek je paarste outfit aan en doe mee! We verzamelen om
  12 uur op het  Munsterplein . Gebruik het formulier om je aan te melden vo
 or deze en andere straatacties 🙏🏻💜 On this day\, we want to gather
  as many people as possible in Roermond\, so put on your purplest outfit an
 d join in! We meet at 12 noon on the  Munsterplein . Use the form to sign u
 p for this and other street activities 🙏🏻💜
LOCATION:Roermond
URL:https://voltnederland.org/limburg/agenda/straatactie-roermond-251005
END:VEVENT
END:VCALENDAR
