BEGIN:VCALENDAR
VERSION:2.0
PRODID:-//Volt Europa//Events//EN
CALSCALE:GREGORIAN
METHOD:PUBLISH
BEGIN:VEVENT
UID:straatactie-maastricht-251011-1760176800@voltnederland.org
DTSTAMP:20260423T114225Z
DTSTART;TZID=Europe/Amsterdam:20251011T120000
DTEND;TZID=Europe/Amsterdam:20251011T150000
SUMMARY:Straatactie Maastricht
DESCRIPTION:Op deze dag willen we zo veel mogelijk mensen bij elkaar krijge
 n in Maastricht\, dus trek je paarste outfit aan en doe mee! We verzamelen 
 om 12 uur op het station en trekken vanaf daar de stad in. Gebruik het form
 ulier om je aan te melden voor deze en andere straatacties 🙏🏻💜 On 
 this day\, we want to gather as many people as possible in Maastricht\, so 
 put on your purplest outfit and join in! We will gather at the train statio
 n at 12PM and move into the city from there. Use the form to sign up for t
LOCATION:Maastricht
URL:https://voltnederland.org/limburg/agenda/straatactie-maastricht-251011
END:VEVENT
END:VCALENDAR
