BEGIN:VCALENDAR
VERSION:2.0
PRODID:-//Volt Europa//Events//EN
CALSCALE:GREGORIAN
METHOD:PUBLISH
BEGIN:VEVENT
UID:straatactie-beek-251026-1761472800@voltnederland.org
DTSTAMP:20260423T114049Z
DTSTART;TZID=Europe/Amsterdam:20251026T110000
DTEND;TZID=Europe/Amsterdam:20251026T160000
SUMMARY:Straatactie Beek / Maastricht
DESCRIPTION:Op de laatste zondag voor de verkiezingen zullen we met Jefte i
 n haar thuishonk gaan flyeren\, dus trek je paarste outfit aan en doe mee! 
 We verzamelen om 11 uur op de Markt in Beek om met name zo veel mogelijk br
 ievenbussen te vullen. Daarna zullen we rond 13:00 in Maastricht op het sta
 tionsplein verzamelen om de rest van de dag daar flyers uit te delen. Gebru
 ik het formulier om je aan te melden voor deze en andere straatacties 🙏
 💜 On the last Sunday before the elections\, we'll be handing out fl
LOCATION:Markt Beek / Station Maastricht
URL:https://voltnederland.org/limburg/agenda/straatactie-beek-251026
END:VEVENT
END:VCALENDAR
