BEGIN:VCALENDAR
VERSION:2.0
PRODID:-//Volt Europa//Events//EN
CALSCALE:GREGORIAN
METHOD:PUBLISH
BEGIN:VEVENT
UID:stand-up-voor-europa-1717239600@voltnederland.org
DTSTAMP:20260423T114106Z
DTSTART;TZID=Europe/Amsterdam:20240601T130000
DTEND;TZID=Europe/Amsterdam:20240601T160000
SUMMARY:Stand up voor Europa
DESCRIPTION:Vlak voordat mensen naar de stembus gaan\, willen wij samen met
  jullie allemaal de straat op! Het is een kans om kiezers een kijkje te gev
 en in wat het betekent om pan-Europees te werken (en te stemmen!) in tijden
  waarin nationalisten aan populariteit winnen. Volters over het hele contin
 ent gaan met hun city teams de straat op om ons verhaal onder de aandacht t
 e brengen en in contact te komen met potentiële kiezers. 📣 In Limburg w
 illen we activiteiten organiseren in Roermond en Sittard. Je kunt h
LOCATION:Roermond & Sittard
URL:https://voltnederland.org/limburg/agenda/stand-up-voor-europa
END:VEVENT
END:VCALENDAR
