BEGIN:VCALENDAR
VERSION:2.0
PRODID:-//Volt Europa//Events//EN
CALSCALE:GREGORIAN
METHOD:PUBLISH
BEGIN:VEVENT
UID:sphinx-debat-veiligheid-in-onze-regio-in-tijden-van-internationale-span
 ningen-1750872600@voltnederland.org
DTSTAMP:20260423T114538Z
DTSTART;TZID=Europe/Amsterdam:20250625T193000
DTEND;TZID=Europe/Amsterdam:20250625T213000
SUMMARY:Sphinx debat: veiligheid in onze regio in tijden van internationale
  spanningen
DESCRIPTION:Sphinx organiseert een debat over de veiligheid en weerbaarheid
  van onze regio: "We leven in een tijd van grote internationale spanningen.
  Tegen de achtergrond van de grote NAVO-conferentie in Den Haag richten wij
  de schijnwerpers op de veiligheid en weerbaarheid van Maastricht en Zuid-L
 imburg."
LOCATION:Centre Céramique\, Maastricht
URL:https://voltnederland.org/limburg/agenda/sphinx-debat-veiligheid-in-onz
 e-regio-in-tijden-van-internationale-spanningen
END:VEVENT
END:VCALENDAR
