BEGIN:VCALENDAR
VERSION:2.0
PRODID:-//Volt Europa//Events//EN
CALSCALE:GREGORIAN
METHOD:PUBLISH
BEGIN:VEVENT
UID:sphinx-burger-verkiezingsdebat-1758735000@voltnederland.org
DTSTAMP:20260423T114134Z
DTSTART;TZID=Europe/Amsterdam:20250924T193000
DTEND;TZID=Europe/Amsterdam:20250924T213000
SUMMARY:Sphinx Burger Verkiezingsdebat
DESCRIPTION:Verkiezingsdebat zonder politici\, maar met jou Voorafgaand aan
  de landelijke verkiezingen (29 oktober 2025) en de gemeenteraadsverkiezing
 en (18 maart 2026) organiseert Sphinx samen met  Burgerlab Maastricht  een 
 verkiezingsdebat. Niet met en voor politici\, maar voor en door burgers. Ze
  maken ruimte voor nieuwe perspectieven\, andere verhalen en meerstemmighei
 d in de lokale democratie. Meer informatie vind je op hun website:  https:/
 /debatcentrumsphinx.nl/events/verkiezingsdebat-zonder-politici-ma
LOCATION:Debatcentrum Sphinx: Centre Céramique
URL:https://voltnederland.org/limburg/agenda/sphinx-burger-verkiezingsdebat
END:VEVENT
END:VCALENDAR
