BEGIN:VCALENDAR
VERSION:2.0
PRODID:-//Volt Europa//Events//EN
CALSCALE:GREGORIAN
METHOD:PUBLISH
BEGIN:VEVENT
UID:social-gathering-1708626600@voltnederland.org
DTSTAMP:20260423T102048Z
DTSTART;TZID=Europe/Amsterdam:20240222T193000
DTEND;TZID=Europe/Amsterdam:20240222T220000
SUMMARY:Social gathering
DESCRIPTION:Zin in een borrel\, een leuke activiteit en een goed gesprek me
 t mede-Volters? Dan ben je bij onze Monthly Social Gathering aan het goede 
 adres! Nieuwe leden zijn vanaf 19:30u welkom voor een introductie en kennis
 making. Al lid? Dan ben je vanaf 20:00u van harte welkom. Nog geen lid van 
 Volt? Iedereen is welkom! Aanmelden is niet verplicht\, wel handig. Houd er
  rekening mee dat de voertaal van dit evenement Engels is. 📅 Iedere derd
 e donderdag van de maand ⏰ 19.30u nieuwe leden ⏰ 20.00u iedereen we
LOCATION:Café Forum - Maastricht
URL:https://voltnederland.org/limburg/agenda/social-gathering
END:VEVENT
END:VCALENDAR
