BEGIN:VCALENDAR
VERSION:2.0
PRODID:-//Volt Europa//Events//EN
CALSCALE:GREGORIAN
METHOD:PUBLISH
BEGIN:VEVENT
UID:social-gathering-202511-1763058600@voltnederland.org
DTSTAMP:20260423T102218Z
DTSTART;TZID=Europe/Amsterdam:20251113T193000
DTEND;TZID=Europe/Amsterdam:20251113T220000
SUMMARY:Social Gathering Maastricht
DESCRIPTION:Fancy a drink\, a fun activity and a good chat with fellow Volt
 ers? Then our Monthly Social Gathering is the place to be! Everyone is welc
 ome! Registration is not mandatory\, but it is useful. Please note that the
  working language of this event is English. 📅 Every third Thursday of th
 e month ⏰ You are welcome from 8 PM onwards
LOCATION:Café Forum - Maastricht
URL:https://voltnederland.org/limburg/agenda/social-gathering-202511
END:VEVENT
END:VCALENDAR
