BEGIN:VCALENDAR
VERSION:2.0
PRODID:-//Volt Europa//Events//EN
CALSCALE:GREGORIAN
METHOD:PUBLISH
BEGIN:VEVENT
UID:social-gathering-202504-1744911000@voltnederland.org
DTSTAMP:20260423T102218Z
DTSTART;TZID=Europe/Amsterdam:20250417T193000
DTEND;TZID=Europe/Amsterdam:20250417T220000
SUMMARY:[CANCELED / GEANNULEERD] Social Gathering Maastricht
DESCRIPTION:De social gathering van a.s. donderdag gaat niet door. Tot snel
  op een ander event! The social gathering of this upcoming Thursday is canc
 elled. See you soon elsewhere!
LOCATION:-
URL:https://voltnederland.org/limburg/agenda/social-gathering-202504
END:VEVENT
END:VCALENDAR
