BEGIN:VCALENDAR
VERSION:2.0
PRODID:-//Volt Europa//Events//EN
CALSCALE:GREGORIAN
METHOD:PUBLISH
BEGIN:VEVENT
UID:social-gathering-202502-1740074400@voltnederland.org
DTSTAMP:20260423T102220Z
DTSTART;TZID=Europe/Amsterdam:20250220T190000
DTEND;TZID=Europe/Amsterdam:20250220T210000
SUMMARY:Open Fractiedag Maastricht
DESCRIPTION:In plaats van de maandelijkse Social Gathering is er op donderd
 ag 20 februari een open fractieavond. Meer info volgt. Instead of the month
 ly Social Gathering\, there will be an open faction evening on Thursday\, F
 ebruary 20. More information will follow.
LOCATION:Maastricht
URL:https://voltnederland.org/limburg/agenda/social-gathering-202502
END:VEVENT
END:VCALENDAR
