BEGIN:VCALENDAR
VERSION:2.0
PRODID:-//Volt Europa//Events//EN
CALSCALE:GREGORIAN
METHOD:PUBLISH
BEGIN:VEVENT
UID:social-gathering-202409-1726594200@voltnederland.org
DTSTAMP:20260423T102219Z
DTSTART;TZID=Europe/Amsterdam:20240917T193000
DTEND;TZID=Europe/Amsterdam:20240917T220000
SUMMARY:Social Gathering Maastricht
DESCRIPTION:Zin in een borrel\, een leuke activiteit en een goed gesprek me
 t mede-Volters? Dan ben je bij onze Monthly Social Gathering aan het goede 
 adres! Nieuwe leden zijn vanaf 19:30u welkom voor een introductie en kennis
 making. Al lid? Dan ben je vanaf 20:00u van harte welkom. Nog geen lid van 
 Volt? Iedereen is welkom! Aanmelden is niet verplicht\, wel handig. Houd er
  rekening mee dat de voertaal van dit evenement Engels is. 📅 Iedere derd
 e donderdag van de maand (uitgezonderd deze keer) ⏰ 19.30u nieuwe l
LOCATION:Café Forum - Maastricht
URL:https://voltnederland.org/limburg/agenda/social-gathering-202409
END:VEVENT
END:VCALENDAR
