BEGIN:VCALENDAR
VERSION:2.0
PRODID:-//Volt Europa//Events//EN
CALSCALE:GREGORIAN
METHOD:PUBLISH
BEGIN:VEVENT
UID:potluck-parkstad-1759165200@voltnederland.org
DTSTAMP:20260423T102047Z
DTSTART;TZID=Europe/Amsterdam:20250929T190000
DTEND;TZID=Europe/Amsterdam:20250929T220000
SUMMARY:Potluck Parkstad
DESCRIPTION:🥄🌟 POTLUCK & POLITIEK – Jij komt toch ook? 🌟🥄 Het
  reces is voorbij\, de agenda's stromen weer vol... dus: tijd om elkaar wee
 r te zien! Maandag 29 september om 19.00 uur organiseert Marleen een potluc
 k. We maken er een leuke avond van -misschien zelfs met een speciale gast!
 - 🍴 Wat is het idee? Je meld je aan en neemt een klein gerechtje mee 
 (denk tapasformaat)\, en samen maken we er een gezellige\, inspirerende avo
 nd van. We praten bij over🗳️: Politiek🏙️ Onze stad🌱 De bewegin
 g📣 De campagne...en all
LOCATION:Heerlen
URL:https://voltnederland.org/limburg/agenda/potluck-parkstad
END:VEVENT
END:VCALENDAR
