BEGIN:VCALENDAR
VERSION:2.0
PRODID:-//Volt Europa//Events//EN
CALSCALE:GREGORIAN
METHOD:PUBLISH
BEGIN:VEVENT
UID:politiek-cafe-1717088400@voltnederland.org
DTSTAMP:20260423T102226Z
DTSTART;TZID=Europe/Amsterdam:20240530T190000
DTEND;TZID=Europe/Amsterdam:20240530T220000
SUMMARY:Politiek Café
DESCRIPTION:Op 6 juni kunnen we allemaal weer naar de stembus om te stemmen
  voor het Europees Parlement\, maar wat doet dat parlement eigenlijk? Hoe w
 erkt de EU en wat doen ze precies? Waarom is het zo belangrijk om te gaan s
 temmen op die dag? Samen met NSC en GroenLinks/PvdA zullen wij antwoorden o
 p al dit soort vragen geven in een informele setting tijdens het politiek c
 afé in het StayOkay\, Maastricht. Programma 19:00 - 19:30 Inloop 19:30 - 2
 0:15 Verschillende sprekers vertellen over de EU 20:15 - 21:15 Pa
LOCATION:StayOkay\, Maastricht
URL:https://voltnederland.org/limburg/agenda/politiek-cafe
END:VEVENT
END:VCALENDAR
