BEGIN:VCALENDAR
VERSION:2.0
PRODID:-//Volt Europa//Events//EN
CALSCALE:GREGORIAN
METHOD:PUBLISH
BEGIN:VEVENT
UID:pan-europees-evenement-reuver-1725208200@voltnederland.org
DTSTAMP:20260423T114248Z
DTSTART;TZID=Europe/Amsterdam:20240901T183000
DTEND;TZID=Europe/Amsterdam:20240901T230000
SUMMARY:Pan-Europees evenement
DESCRIPTION:Voor een sterk Europees Volt-netwerk zijn ontmoetingen over lan
 dsgrenzen tussen regio’s met gedeelde landsgrenzen - ofwel  binnen  een r
 egio met landsgrenzen. Het doel van het evenement van 1 september is om de 
 mensen van  Volt Niederrhein  en  Volt Limburg  met elkaar in contact te br
 engen. Dat geeft dan ook de mogelijkheid om te bespreken hoe we elkaar kunn
 en helpen\, en wat voor gezamenlijke activiteiten leuk zouden kunnen zijn. 
 We ontmoeten elkaar in  Boscafé de Grens  in Reuver (Keulseweg 20
LOCATION:Boscafé de Grens\, Keulseweg 202 in Reuver
URL:https://voltnederland.org/limburg/agenda/pan-europees-evenement-reuver
END:VEVENT
END:VCALENDAR
