BEGIN:VCALENDAR
VERSION:2.0
PRODID:-//Volt Europa//Events//EN
CALSCALE:GREGORIAN
METHOD:PUBLISH
BEGIN:VEVENT
UID:nieuwjaarsborrel-venlo-2026-1768501800@voltnederland.org
DTSTAMP:20260423T211951Z
DTSTART;TZID=Europe/Amsterdam:20260115T193000
DTEND;TZID=Europe/Amsterdam:20260115T220000
SUMMARY:Nieuwjaarsborrel Venlo
DESCRIPTION:Kom naar Café de Klep om met ons te proosten op 2026. We kijke
 n vooruit op het nieuwe politieke jaar en maken het gezellig!
LOCATION:Café de Klep\, Venlo
URL:https://voltnederland.org/limburg/agenda/nieuwjaarsborrel-venlo-2026
END:VEVENT
END:VCALENDAR
