BEGIN:VCALENDAR
VERSION:2.0
PRODID:-//Volt Europa//Events//EN
CALSCALE:GREGORIAN
METHOD:PUBLISH
BEGIN:VEVENT
UID:nieuwe-ledenborrel-venlo-202501-1737653400@voltnederland.org
DTSTAMP:20260423T114340Z
DTSTART;TZID=Europe/Amsterdam:20250123T183000
DTEND;TZID=Europe/Amsterdam:20250123T210000
SUMMARY:Nieuwe ledenborrel Venlo
DESCRIPTION:Een nieuwe ledenborrel in Venlo voor nieuwe en bestaande leden\
 , om elkaar op een informele manier te ontmoeten.
LOCATION:Café de Klep\, Venlo
URL:https://voltnederland.org/limburg/agenda/nieuwe-ledenborrel-venlo-20250
 1
END:VEVENT
END:VCALENDAR
