BEGIN:VCALENDAR
VERSION:2.0
PRODID:-//Volt Europa//Events//EN
CALSCALE:GREGORIAN
METHOD:PUBLISH
BEGIN:VEVENT
UID:meet-up-volt-venlo-1710959400@voltnederland.org
DTSTAMP:20260423T144253Z
DTSTART;TZID=Europe/Amsterdam:20240320T193000
DTEND;TZID=Europe/Amsterdam:20240320T213000
SUMMARY:Meet-up Volt Venlo
DESCRIPTION:Bij de volgende Volt Venlo meeting in Café Grenswerk zal Vince
 nt Pijnenburg gastspreker zijn. Hij is cross border professor bij Fontys Ho
 gescholen en is voornamelijk bezig met grensoverschrijdende samenwerking.
LOCATION:Café Grenswerk\, Venlo
URL:https://voltnederland.org/limburg/agenda/meet-up-volt-venlo
END:VEVENT
END:VCALENDAR
