BEGIN:VCALENDAR
VERSION:2.0
PRODID:-//Volt Europa//Events//EN
CALSCALE:GREGORIAN
METHOD:PUBLISH
BEGIN:VEVENT
UID:meet-up-volt-venlo-202409-1727285400@voltnederland.org
DTSTAMP:20260423T114048Z
DTSTART;TZID=Europe/Amsterdam:20240925T193000
DTEND;TZID=Europe/Amsterdam:20240925T213000
SUMMARY:Meet-up Volt Venlo
DESCRIPTION:Of je nu nieuw bent of oude vrienden weer ontmoet\, we zijn bli
 j dat je er bent! Kom ook naar een gezellig samenzijn in Venlo 💜
LOCATION:Café Grenswerk\, Venlo
URL:https://voltnederland.org/limburg/agenda/meet-up-volt-venlo-202409
END:VEVENT
END:VCALENDAR
