BEGIN:VCALENDAR
VERSION:2.0
PRODID:-//Volt Europa//Events//EN
CALSCALE:GREGORIAN
METHOD:PUBLISH
BEGIN:VEVENT
UID:meet-up-volt-sittard-geleen-1713546900@voltnederland.org
DTSTAMP:20260423T161201Z
DTSTART;TZID=Europe/Amsterdam:20240419T191500
DTEND;TZID=Europe/Amsterdam:20240419T203000
SUMMARY:Meet-up Volt Sittard-Geleen
DESCRIPTION:Borrel en bijeenkomst van Volt Sittard-Geleen\, voor leden én 
 niet-leden! We zullen het hebben over hoe we zoveel mogelijk leden in Sitta
 rd-Geleen kunnen betrekken bij het vormen van de Volt Sittard-Geleen commun
 ity.
LOCATION:Café Dwaesj - Sittard
URL:https://voltnederland.org/limburg/agenda/meet-up-volt-sittard-geleen
END:VEVENT
END:VCALENDAR
