BEGIN:VCALENDAR
VERSION:2.0
PRODID:-//Volt Europa//Events//EN
CALSCALE:GREGORIAN
METHOD:PUBLISH
BEGIN:VEVENT
UID:meet-up-vaals-202507-1753119000@voltnederland.org
DTSTAMP:20260423T113948Z
DTSTART;TZID=Europe/Amsterdam:20250721T193000
DTEND;TZID=Europe/Amsterdam:20250721T210000
SUMMARY:Meet-up Vaals
DESCRIPTION:Iedere derde maandag van de maand organiseren we een meet-up in
  café 't Vereinshoes in Vaals. Kom ook langs en ontmoet andere Volters en 
 geïnteresseerden in een informele setting. Voorbereiding zijn niet nodig\,
  je hoeft alleen een mening klaar te hebben!
LOCATION:Café 't Vereinshoes\, Vaals
URL:https://voltnederland.org/limburg/agenda/meet-up-vaals-202507
END:VEVENT
END:VCALENDAR
