BEGIN:VCALENDAR
VERSION:2.0
PRODID:-//Volt Europa//Events//EN
CALSCALE:GREGORIAN
METHOD:PUBLISH
BEGIN:VEVENT
UID:meet-greet-aachen-en-maastricht-1777566600@voltnederland.org
DTSTAMP:20260421T222140Z
DTSTART;TZID=Europe/Amsterdam:20260430T183000
DTEND;TZID=Europe/Amsterdam:20260430T220000
SUMMARY:Meet & Greet Aachen en Maastricht
DESCRIPTION:Op 30 april organiseren we een meet & greet tussen Volters uit 
 Aachen en Maastricht. De meet-up zal plaatsvinden in Maastricht. Meer detai
 ls en de exacte locatie zullen nog volgen\, maar zet 'm vast in je agenda!
LOCATION:Maastricht
URL:https://voltnederland.org/limburg/agenda/meet-greet-aachen-en-maastrich
 t
END:VEVENT
END:VCALENDAR
