BEGIN:VCALENDAR
VERSION:2.0
PRODID:-//Volt Europa//Events//EN
CALSCALE:GREGORIAN
METHOD:PUBLISH
BEGIN:VEVENT
UID:maastricht-na-rieu-1746639000@voltnederland.org
DTSTAMP:20260423T142735Z
DTSTART;TZID=Europe/Amsterdam:20250507T193000
DTEND;TZID=Europe/Amsterdam:20250507T213000
SUMMARY:Maastricht na Rieu
DESCRIPTION:Sphinx debat over de toekomst van Maastricht\, met Jules Ortjen
 s van Volt Maastricht! Let op : je moet je aanmelden voor het debat. Gebrui
 k de knop onderaan om naar de website van Debatcentrum Sphinx te gaan. Andr
 é Rieu is al decennia lang een boegbeeld van Maastricht. Zijn zomerconcert
 en op het Vrijthof trekken jaarlijks tienduizenden bezoekers uit binnen- en
  buitenland en geven de stad een internationale uitstraling. De horeca bied
 t lucratieve arrangementen aan en de hotels zitten vol. Nog eens
LOCATION:Centre Céramique\, Maastricht
URL:https://voltnederland.org/limburg/agenda/maastricht-na-rieu
END:VEVENT
END:VCALENDAR
