BEGIN:VCALENDAR
VERSION:2.0
PRODID:-//Volt Europa//Events//EN
CALSCALE:GREGORIAN
METHOD:PUBLISH
BEGIN:VEVENT
UID:maandelijkse-fractie-bijeenkomst-maastricht-1712599200@voltnederland.or
 g
DTSTAMP:20260424T031727Z
DTSTART;TZID=Europe/Amsterdam:20240408T200000
DTEND;TZID=Europe/Amsterdam:20240408T210000
SUMMARY:Maandelijkse fractie bijeenkomst Maastricht
DESCRIPTION:Tijdens deze maandelijkse bijeenkomst praat de fractie je bij o
 ver hun bezigheden en kun jij meedenken over de politieke richting van Volt
  Maastricht. Let op! De publieke fractievergadering is deze maand niet op d
 e gebruikelijke eerste maandag van de maand (Paasweekend)\, maar op maandag
  8 april.
LOCATION:Cafe Forum - Maastricht
URL:https://voltnederland.org/limburg/agenda/maandelijkse-fractie-bijeenkom
 st-maastricht
END:VEVENT
END:VCALENDAR
