BEGIN:VCALENDAR
VERSION:2.0
PRODID:-//Volt Europa//Events//EN
CALSCALE:GREGORIAN
METHOD:PUBLISH
BEGIN:VEVENT
UID:maandelijkse-fractie-bijeenkomst-maastricht-202605-1777915800@voltneder
 land.org
DTSTAMP:20260421T222248Z
DTSTART;TZID=Europe/Amsterdam:20260504T193000
DTEND;TZID=Europe/Amsterdam:20260504T210000
SUMMARY:Publieke Fractievergadering
DESCRIPTION:Tijdens deze maandelijkse bijeenkomst praat de fractie je bij o
 ver hun bezigheden en kun jij meedenken over de politieke richting van Volt
  Maastricht. We bespreken actuele onderwerpen\, blikken terug op de afgelop
 en politieke maand en we kijken vooruit naar een Europese en progressieve t
 oekomst voor Maastricht. Nog geen lid van Volt? Iedereen is welkom! Aanmeld
 en is niet verplicht\, wel handig. De voertaal van dit evenement is Nederla
 nds.
LOCATION:Mosae Forum - Maastricht
URL:https://voltnederland.org/limburg/agenda/maandelijkse-fractie-bijeenkom
 st-maastricht-202605
END:VEVENT
END:VCALENDAR
