BEGIN:VCALENDAR
VERSION:2.0
PRODID:-//Volt Europa//Events//EN
CALSCALE:GREGORIAN
METHOD:PUBLISH
BEGIN:VEVENT
UID:maandelijkse-fractie-bijeenkomst-maastricht-202510-1759771800@voltneder
 land.org
DTSTAMP:20260423T114630Z
DTSTART;TZID=Europe/Amsterdam:20251006T193000
DTEND;TZID=Europe/Amsterdam:20251006T210000
SUMMARY:[AFGELAST] Publieke Fractievergadering
DESCRIPTION:Omdat onze leden en bestuur nog hard aan het werk zijn om de la
 atste puntjes op de i te zetten voor het Verkiezingsprogramma\, zal de Publ
 ieke Fractievergadering van Volt Maastricht deze maandag niet doorgaan. In 
 november is Volt Maastricht weer met een nieuwe Publieke Fractievergadering
 !
LOCATION:---
URL:https://voltnederland.org/limburg/agenda/maandelijkse-fractie-bijeenkom
 st-maastricht-202510
END:VEVENT
END:VCALENDAR
