BEGIN:VCALENDAR
VERSION:2.0
PRODID:-//Volt Europa//Events//EN
CALSCALE:GREGORIAN
METHOD:PUBLISH
BEGIN:VEVENT
UID:maandelijkse-fractie-bijeenkomst-maastricht-202506-1748885400@voltneder
 land.org
DTSTAMP:20260423T114630Z
DTSTART;TZID=Europe/Amsterdam:20250602T193000
DTEND;TZID=Europe/Amsterdam:20250602T210000
SUMMARY:Publieke Fractievergadering
DESCRIPTION:Tijdens deze maandelijkse bijeenkomst praat de fractie je bij o
 ver hun bezigheden en kun jij meedenken over de politieke richting van Volt
  Maastricht. We bespreken actuele onderwerpen\, blikken terug op de afgelop
 en politieke maand en we kijken vooruit naar een Europese en progressieve t
 oekomst voor Maastricht. Nog geen lid van Volt? Iedereen is welkom! Aanmeld
 en is niet verplicht\, wel handig. De voertaal van dit evenement is Nederla
 nds.
LOCATION:Mosae Forum - Maastricht
URL:https://voltnederland.org/limburg/agenda/maandelijkse-fractie-bijeenkom
 st-maastricht-202506
END:VEVENT
END:VCALENDAR
