BEGIN:VCALENDAR
VERSION:2.0
PRODID:-//Volt Europa//Events//EN
CALSCALE:GREGORIAN
METHOD:PUBLISH
BEGIN:VEVENT
UID:maandelijkse-fractie-bijeenkomst-maastricht-202505-1746466200@voltneder
 land.org
DTSTAMP:20260423T144549Z
DTSTART;TZID=Europe/Amsterdam:20250505T193000
DTEND;TZID=Europe/Amsterdam:20250505T210000
SUMMARY:[CANCELED / GEANNULEERD] Publieke Fractievergadering
DESCRIPTION:De publieke fractievergadering van a.s. maandag gaat niet door.
  Tot snel op een ander event! The public faction meeting of this upcoming M
 onday is cancelled. See you soon elsewhere!
LOCATION:Mosae Forum - Maastricht
URL:https://voltnederland.org/limburg/agenda/maandelijkse-fractie-bijeenkom
 st-maastricht-202505
END:VEVENT
END:VCALENDAR
