BEGIN:VCALENDAR
VERSION:2.0
PRODID:-//Volt Europa//Events//EN
CALSCALE:GREGORIAN
METHOD:PUBLISH
BEGIN:VEVENT
UID:luik-b-les-retrouvailles-infostand-1757149200@voltnederland.org
DTSTAMP:20260423T114135Z
DTSTART;TZID=Europe/Amsterdam:20250906T110000
DTEND;TZID=Europe/Amsterdam:20250906T190000
SUMMARY:Luik (B): Les Retrouvailles - infostand
DESCRIPTION:Op 6 en 7 september staan wij met een Volt stand op Les Retrouv
 ailles in Luik!  Dit is een supergezellig activiteitenfestival\, vlak na de
  zomervakantie\, met ieder jaar meer dan 35.000 bezoekers. Kom even langs o
 m kennis te maken met het team van Volt België of help mee\, als je een be
 etje Frans spreekt! Les 6 et 7 septembre\, nous serons aux Retrouvailles à
  Liège avec un stand de Volt ! C'est un festival d'activités super conviv
 ial\, juste après les vacances d'été\, qui accueille plus de 35 000 visi
LOCATION:Liège\, Parc de la Boverie
URL:https://voltnederland.org/agenda/luik-b-les-retrouvailles-infostand
END:VEVENT
END:VCALENDAR
