BEGIN:VCALENDAR
VERSION:2.0
PRODID:-//Volt Europa//Events//EN
CALSCALE:GREGORIAN
METHOD:PUBLISH
BEGIN:VEVENT
UID:ledenvergadering-volt-zuid-limburg-1714498200@voltnederland.org
DTSTAMP:20260423T131610Z
DTSTART;TZID=Europe/Amsterdam:20240430T193000
DTEND;TZID=Europe/Amsterdam:20240430T203000
SUMMARY:Ledenvergadering Volt Zuid-Limburg
DESCRIPTION:Op de laatste dinsdag van de maand organiseren we een ledenverg
 adering om bij te praten over wat er allemaal speelt in Volt Zuid-Limburg e
 n Volt Limburg. Vorige week hadden we het o.a. over de organisatie\, de cam
 pagne en de reflectiesessies die momenteel plaatsvinden. Sluit aan via  dez
 e link . We vinden het leuk als je met ons meedenkt!
LOCATION:Online
URL:https://voltnederland.org/limburg/agenda/ledenvergadering-volt-zuid-lim
 burg
END:VEVENT
END:VCALENDAR
