BEGIN:VCALENDAR
VERSION:2.0
PRODID:-//Volt Europa//Events//EN
CALSCALE:GREGORIAN
METHOD:PUBLISH
BEGIN:VEVENT
UID:ledenvergadering-volt-limburg-202601-1768329000@voltnederland.org
DTSTAMP:20260423T174332Z
DTSTART;TZID=Europe/Amsterdam:20260113T193000
DTEND;TZID=Europe/Amsterdam:20260113T203000
SUMMARY:Ledenvergadering Volt Limburg
DESCRIPTION:Agenda 19:30 - welkom 19:35 - update Provinciale Staten  19:45
  - updates Volt Limburg (organogram) 19:50 - updates van de communities 20:
 00 - discussie over gebruik van AI beelden 20:30 - afsluiting
LOCATION:Online
URL:https://voltnederland.org/limburg/agenda/ledenvergadering-volt-limburg-
 202601
END:VEVENT
END:VCALENDAR
