BEGIN:VCALENDAR
VERSION:2.0
PRODID:-//Volt Europa//Events//EN
CALSCALE:GREGORIAN
METHOD:PUBLISH
BEGIN:VEVENT
UID:ledenvergadering-volt-limburg-202511-1762281000@voltnederland.org
DTSTAMP:20260423T114340Z
DTSTART;TZID=Europe/Amsterdam:20251104T193000
DTEND;TZID=Europe/Amsterdam:20251104T203000
SUMMARY:Ledenvergadering Volt Limburg
DESCRIPTION:We gaan tijdens deze vergadering alvast vooruit blikken op het 
 aankomende congres\, waarbij ook de kandidaten voor de Maastrichtse gemeent
 eraad zich zullen voorstellen. Verder geven de verschillende Volt-communiti
 es en teams een update. During this meeting\, the candidates for the Maastr
 icht City Council will introduce themselves\, while we prepare for the upco
 ming conference. Furthermore\, the various Volt communities and teams will 
 provide updates.
LOCATION:Online
URL:https://voltnederland.org/limburg/agenda/ledenvergadering-volt-limburg-
 202511
END:VEVENT
END:VCALENDAR
