BEGIN:VCALENDAR
VERSION:2.0
PRODID:-//Volt Europa//Events//EN
CALSCALE:GREGORIAN
METHOD:PUBLISH
BEGIN:VEVENT
UID:ledenvergadering-volt-limburg-202510-1760463000@voltnederland.org
DTSTAMP:20260423T114340Z
DTSTART;TZID=Europe/Amsterdam:20251014T193000
DTEND;TZID=Europe/Amsterdam:20251014T203000
SUMMARY:Ledenvergadering Volt Limburg
DESCRIPTION:We gaan het o.a. hebben over hoe mensen in je omgeving en op st
 raat te vertellen over Volt. Ook geven de verschillende Volt-communities en
  teams een update. We'll be discussing topics like how to tell people in yo
 ur community and on the street about Volt. The various Volt communities and
  teams will also provide updates.
LOCATION:Online
URL:https://voltnederland.org/limburg/agenda/ledenvergadering-volt-limburg-
 202510
END:VEVENT
END:VCALENDAR
