BEGIN:VCALENDAR
VERSION:2.0
PRODID:-//Volt Europa//Events//EN
CALSCALE:GREGORIAN
METHOD:PUBLISH
BEGIN:VEVENT
UID:ledenvergadering-volt-limburg-202509-1757439000@voltnederland.org
DTSTAMP:20260423T114306Z
DTSTART;TZID=Europe/Amsterdam:20250909T193000
DTEND;TZID=Europe/Amsterdam:20250909T203000
SUMMARY:Ledenvergadering Volt Limburg
DESCRIPTION:We zullen het o.a. hebben over de aanstaande campagne. Ook geve
 n de verschillende Volt-communities en teams een update en besteden we aand
 acht aan hoe we met elkaar omgaan in de online sfeer. Welke onderwerpen en 
 toon vinden wij wel of niet acceptabel voor bijvoorbeeld de Pub app? We'll 
 be discussing the upcoming campaign\, among other things. The various Volt 
 communities and teams will also provide updates\, and we'll address how we 
 interact online. Which topics and tone do we consider acceptable
LOCATION:Online
URL:https://voltnederland.org/limburg/agenda/ledenvergadering-volt-limburg-
 202509
END:VEVENT
END:VCALENDAR
