BEGIN:VCALENDAR
VERSION:2.0
PRODID:-//Volt Europa//Events//EN
CALSCALE:GREGORIAN
METHOD:PUBLISH
BEGIN:VEVENT
UID:ledenvergadering-volt-limburg-202507-1751995800@voltnederland.org
DTSTAMP:20260423T114311Z
DTSTART;TZID=Europe/Amsterdam:20250708T193000
DTEND;TZID=Europe/Amsterdam:20250708T203000
SUMMARY:Ledenvergadering Volt Limburg
DESCRIPTION:19.30-20.30 uur: onlineledenvergadering 20.00-21.00 uur: discus
 sieavond We eindigen deze maand weer met een interessante discussieavond. J
 e kunt er actief aan meedoen of alleen luisteren.  Agendapunten voor de led
 envergadering kun je per e-mail indienen: limburg@voltnederland.org. We zie
 n je graag hier:  https://meet.google.com/gar-dnij-ydx 19:30-20:30: Online 
 Members’ Meeting 20:00-21:00: Discussion Evening We’re wrapping up the 
 monthly meeting with an engaging discussion. You can actively part
LOCATION:Online
URL:https://voltnederland.org/limburg/agenda/ledenvergadering-volt-limburg-
 202507
END:VEVENT
END:VCALENDAR
