BEGIN:VCALENDAR
VERSION:2.0
PRODID:-//Volt Europa//Events//EN
CALSCALE:GREGORIAN
METHOD:PUBLISH
BEGIN:VEVENT
UID:ledenvergadering-volt-limburg-202505-1747157400@voltnederland.org
DTSTAMP:20260423T114310Z
DTSTART;TZID=Europe/Amsterdam:20250513T193000
DTEND;TZID=Europe/Amsterdam:20250513T213000
SUMMARY:Workshop Moties Indienen
DESCRIPTION:In april hadden we het tweede ledencongres van Volt Limburg. He
 t was een mooie bijeenkomst\, waar de saamhorigheid in onze vereniging door
  velen gevoeld werd. We zien grote ontwikkelingen binnen onze afdeling\, me
 t steeds meer leden die zich aanmelden om iets bij te dragen (ook al is het
  maar komen borrelen \;).  Door onze snelle groei\, bleek dat er op het con
 gres te weinig tijd was om vragen te stellen en discussies te voeren over o
 .a. het afdelingsreglement. Wij vinden het erg belangrijk dat ons 
LOCATION:Online
URL:https://voltnederland.org/limburg/agenda/ledenvergadering-volt-limburg-
 202505
END:VEVENT
END:VCALENDAR
