BEGIN:VCALENDAR
VERSION:2.0
PRODID:-//Volt Europa//Events//EN
CALSCALE:GREGORIAN
METHOD:PUBLISH
BEGIN:VEVENT
UID:internationale-vrouwendag-im-still-here-inleiding-1741436100@voltnederl
 and.org
DTSTAMP:20260423T143040Z
DTSTART;TZID=Europe/Amsterdam:20250308T131500
DTEND;TZID=Europe/Amsterdam:20250308T180000
SUMMARY:Internationale Vrouwendag: I'm Still Here + Inleiding
DESCRIPTION:Dit is het eerste event van Vrouwen van Volt Limburg! Ga mee na
 ar de film en/of kom borrelen: 13:15 Deuren open 13:30 Start introductie 13
 :45 Start film 16:00 Borrel: Meet & Greet Vrouwen van Volt Limburg Internat
 ionale Vrouwendag: I'm Still Here + Inleiding Op Internationale Vrouwendag 
 vindt er een voorpremière plaats van I'm Still Here\, een ontroerend drama
  over de verdwijning van ingenieur en politicus Rubens Paiva tijdens de Bra
 ziliaanse dictatuur en het gevecht van diens vrouw voor gerechti
LOCATION:Lumière Maastricht - Bassin 88\, 6211 AK Maastricht
URL:https://voltnederland.org/limburg/agenda/internationale-vrouwendag-im-s
 till-here-inleiding
END:VEVENT
END:VCALENDAR
