BEGIN:VCALENDAR
VERSION:2.0
PRODID:-//Volt Europa//Events//EN
CALSCALE:GREGORIAN
METHOD:PUBLISH
BEGIN:VEVENT
UID:flyeren-2024-7-1717585200@voltnederland.org
DTSTAMP:20260423T102047Z
DTSTART;TZID=Europe/Amsterdam:20240605T130000
DTEND;TZID=Europe/Amsterdam:20240605T170000
SUMMARY:Flyeren met Teun op bankje - Maastricht
DESCRIPTION:Bij deze activiteit zal onze nummer 3 EP kandidaat Teun Janssen
  op een "ask me anything" bankje aanwezig zijn om mensen te motiveren in ge
 sprek te gaan. Gebruik het aanmeldformulier om op te geven bij welke flyera
 cties je denkt aanwezig te kunnen zijn. Het is niet verplicht om je op te g
 even maar wel handig. We willen iedereen vragen om zich voor ten minste twe
 e acties aan te melden als dat gaat. Als je vragen hebt over het wie\, wat\
 , waar\, of liever gewoon zelf wat flyers thuis krijgt om uit te 
LOCATION:Maastricht
URL:https://voltnederland.org/limburg/agenda/flyeren-2024-7
END:VEVENT
END:VCALENDAR
