BEGIN:VCALENDAR
VERSION:2.0
PRODID:-//Volt Europa//Events//EN
CALSCALE:GREGORIAN
METHOD:PUBLISH
BEGIN:VEVENT
UID:flyeren-2024-4-1717329600@voltnederland.org
DTSTAMP:20260423T102047Z
DTSTART;TZID=Europe/Amsterdam:20240602T140000
DTEND;TZID=Europe/Amsterdam:20240602T160000
SUMMARY:Flyeren - Maastricht
DESCRIPTION:Gebruik het aanmeldformulier om op te geven bij welke flyeracti
 es je denkt aanwezig te kunnen zijn. Het is niet verplicht om je op te geve
 n maar wel handig. We willen iedereen vragen om zich voor ten minste twee a
 cties aan te melden als dat gaat. Als je vragen hebt over het wie\, wat\, w
 aar\, of liever gewoon zelf wat flyers thuis krijgt om uit te delen of in b
 rievenbussen te doen\, meld je dan in de campagne kanjers app groep. Use th
 e registration form to indicate which flyer promotions you think y
LOCATION:Maastricht
URL:https://voltnederland.org/limburg/agenda/flyeren-2024-4
END:VEVENT
END:VCALENDAR
