BEGIN:VCALENDAR
VERSION:2.0
PRODID:-//Volt Europa//Events//EN
CALSCALE:GREGORIAN
METHOD:PUBLISH
BEGIN:VEVENT
UID:europese-pubquiz-1715275800@voltnederland.org
DTSTAMP:20260423T102220Z
DTSTART;TZID=Europe/Amsterdam:20240509T193000
DTEND;TZID=Europe/Amsterdam:20240509T230000
SUMMARY:Europese pubquiz
DESCRIPTION:Binnenkort is het Europadag. Natuurlijk een dag waar wij als Eu
 ropese partij samenkomen. Daarom organiseren we de Europese pubquiz: Overal
  in Europa komen Volters lokaal bij elkaar om dezelfde pubquiz te spelen é
 n Europa te vieren. Op iedere locatie spelen de teams tegen elkaar voor de 
 lokale winst\, maar alle pubquiz-locaties door heel Europa zijn ook via een
  scherm met elkaar verbonden. De winnaar van elke locatie doet op die manie
 r mee voor de Europese pubquiz beker. De Limburgse afdeling zal 
LOCATION:Café Forum\, Maastricht
URL:https://voltnederland.org/limburg/agenda/europese-pubquiz
END:VEVENT
END:VCALENDAR
