BEGIN:VCALENDAR
VERSION:2.0
PRODID:-//Volt Europa//Events//EN
CALSCALE:GREGORIAN
METHOD:PUBLISH
BEGIN:VEVENT
UID:euregionale-campagne-voor-bundestagwahl-venlo-1739019600@voltnederland.
 org
DTSTAMP:20260423T115314Z
DTSTART;TZID=Europe/Amsterdam:20250208T140000
DTEND;TZID=Europe/Amsterdam:20250208T160000
SUMMARY:Euregionale campagne voor Bundestagwahl
DESCRIPTION:In een Euregionale samenwerking hebben we een flyer ontworpen d
 ie we kunnen uitdelen aan Duitsers (en hun auto's) in Limburg. Dit zijn sup
 erbelangrijke verkiezingen\, dus je kan grote impact maken en samen Volt Du
 itsland in de Bundestag krijgen! Naderhand gaan we lekker warme chocomel dr
 inken :) Locatie: Duitse Hoek - Geldersepoort 10\, 5911 GJ Venlo In a Euror
 egional collaboration\, we have designed a flyer that we can distribute to 
 Germans (and their cars) in Limburg. These are incredibly importa
LOCATION:Venlo Binnenstad "Duitse hoek"
URL:https://voltnederland.org/limburg/agenda/euregionale-campagne-voor-bund
 estagwahl-venlo
END:VEVENT
END:VCALENDAR
