BEGIN:VCALENDAR
VERSION:2.0
PRODID:-//Volt Europa//Events//EN
CALSCALE:GREGORIAN
METHOD:PUBLISH
BEGIN:VEVENT
UID:euregionale-campagne-voor-bundestagwahl-roermond-1739017800@voltnederla
 nd.org
DTSTAMP:20260423T144551Z
DTSTART;TZID=Europe/Amsterdam:20250208T133000
DTEND;TZID=Europe/Amsterdam:20250208T153000
SUMMARY:Euregionale campagne voor Bundestagwahl
DESCRIPTION:In een Euregionale samenwerking hebben we een flyer ontworpen d
 ie we kunnen uitdelen aan Duitsers (en hun auto's) in Limburg. Dit zijn sup
 erbelangrijke verkiezingen\, dus je kan grote impact maken en samen Volt Du
 itsland in de Bundestag krijgen! Naderhand gaan we lekker warme chocomel dr
 inken :) Locatie: Designer Outlet - Stadsweide 2\, 6041 TD Roermond In a Eu
 roregional collaboration\, we have designed a flyer that we can distribute 
 to Germans (and their cars) in Limburg. These are incredibly impo
LOCATION:Designer Outlet Roermond
URL:https://voltnederland.org/limburg/agenda/euregionale-campagne-voor-bund
 estagwahl-roermond
END:VEVENT
END:VCALENDAR
