BEGIN:VCALENDAR
VERSION:2.0
PRODID:-//Volt Europa//Events//EN
CALSCALE:GREGORIAN
METHOD:PUBLISH
BEGIN:VEVENT
UID:euregionale-campagne-voor-bundestagwahl-heerlen-roermond-1739104200@vol
 tnederland.org
DTSTAMP:20260423T114544Z
DTSTART;TZID=Europe/Amsterdam:20250209T133000
DTEND;TZID=Europe/Amsterdam:20250209T153000
SUMMARY:Euregionale campagne voor Bundestagwahl
DESCRIPTION:In een Euregionale samenwerking hebben we een flyer ontworpen d
 ie we kunnen uitdelen aan Duitsers (en hun auto's) in Limburg. Dit zijn sup
 erbelangrijke verkiezingen\, dus je kan grote impact maken en samen Volt Du
 itsland in de Bundestag krijgen! Naderhand gaan we lekker warme chocomel dr
 inken :) Locatie: Woonboulevard - In de Cramer 37\, 6411 RS Heerlen In a Eu
 roregional collaboration\, we have designed a flyer that we can distribute 
 to Germans (and their cars) in Limburg. These are incredibly impo
LOCATION:Woonboulevard Heerlen
URL:https://voltnederland.org/limburg/agenda/euregionale-campagne-voor-bund
 estagwahl-heerlen-roermond
END:VEVENT
END:VCALENDAR
